BEGIN:VCALENDAR
VERSION:2.0
PRODID:-//Dart Events//EN
CALSCALE:GREGORIAN
BEGIN:VEVENT
UID:379@dart.events
DTSTAMP:20260420T023631Z
SUMMARY:Spring Fling
DTSTART:20260425T000000Z
DTEND:20260427T000000Z
LOCATION:3315 Scott Futrell Dr\, Charlotte\, NC
DESCRIPTION:No description provided.\n\nEvent Details: https://www.dart.events/event?id=379
URL;VALUE=URI:https://www.dart.events/event?id=379
END:VEVENT
END:VCALENDAR
