BEGIN:VCALENDAR
VERSION:2.0
PRODID:-//Dart Events//EN
CALSCALE:GREGORIAN
BEGIN:VEVENT
UID:380@dart.events
DTSTAMP:20260420T022741Z
SUMMARY:Party on the Patio
DTSTART;VALUE=DATE:20260424
DTEND;VALUE=DATE:20260427
LOCATION:13440 T I Blvd\, Dallas\, TX
DESCRIPTION:No description provided.\n\nEvent Details: https://www.dart.events/event?id=380
URL;VALUE=URI:https://www.dart.events/event?id=380
END:VEVENT
END:VCALENDAR
